BEGIN:VCALENDAR
VERSION:2.0
PRODID:-//The United Ebony Society - ECPv6.15.20//NONSGML v1.0//EN
CALSCALE:GREGORIAN
METHOD:PUBLISH
X-WR-CALNAME:The United Ebony Society
X-ORIGINAL-URL:https://unitedebonysociety.org
X-WR-CALDESC:Events for The United Ebony Society
REFRESH-INTERVAL;VALUE=DURATION:PT1H
X-Robots-Tag:noindex
X-PUBLISHED-TTL:PT1H
BEGIN:VTIMEZONE
TZID:America/New_York
BEGIN:DAYLIGHT
TZOFFSETFROM:-0500
TZOFFSETTO:-0400
TZNAME:EDT
DTSTART:20240310T070000
END:DAYLIGHT
BEGIN:STANDARD
TZOFFSETFROM:-0400
TZOFFSETTO:-0500
TZNAME:EST
DTSTART:20241103T060000
END:STANDARD
BEGIN:DAYLIGHT
TZOFFSETFROM:-0500
TZOFFSETTO:-0400
TZNAME:EDT
DTSTART:20250309T070000
END:DAYLIGHT
BEGIN:STANDARD
TZOFFSETFROM:-0400
TZOFFSETTO:-0500
TZNAME:EST
DTSTART:20251102T060000
END:STANDARD
BEGIN:DAYLIGHT
TZOFFSETFROM:-0500
TZOFFSETTO:-0400
TZNAME:EDT
DTSTART:20260308T070000
END:DAYLIGHT
BEGIN:STANDARD
TZOFFSETFROM:-0400
TZOFFSETTO:-0500
TZNAME:EST
DTSTART:20261101T060000
END:STANDARD
END:VTIMEZONE
BEGIN:VEVENT
DTSTART;TZID=America/New_York:20250215T100000
DTEND;TZID=America/New_York:20250215T140000
DTSTAMP:20260424T002743
CREATED:20250204T194352Z
LAST-MODIFIED:20250204T194616Z
UID:25308-1739613600-1739628000@unitedebonysociety.org
SUMMARY:Bus tour for Black History Month 2025
DESCRIPTION:In partnership with Gwinnett County\, please join us for this annual event as we explore the rich history of African-American culture in Gwinnett County. Please bring a lunch to enjoy at one of our stops. Register by February 13th. \nCost is $11 for residents of Gwinnett County and $21 for Non residents. Register by February 13\, 2025 \nfor more information call 770.822.5178
URL:https://unitedebonysociety.org/event/bus-tour-for-black-history-month-2025/
LOCATION:Lawrenceville Female Seminary\, 455 South Perry Street\, Lawrenceville\, GA\, 30046
CATEGORIES:Event
ATTACH;FMTTYPE=image/jpeg:https://unitedebonysociety.org/wp-content/uploads/2022/10/bus-tour1.jpg
END:VEVENT
END:VCALENDAR