BEGIN:VCALENDAR
VERSION:2.0
PRODID:-//The United Ebony Society - ECPv6.15.20//NONSGML v1.0//EN
CALSCALE:GREGORIAN
METHOD:PUBLISH
X-WR-CALNAME:The United Ebony Society
X-ORIGINAL-URL:https://unitedebonysociety.org
X-WR-CALDESC:Events for The United Ebony Society
REFRESH-INTERVAL;VALUE=DURATION:PT1H
X-Robots-Tag:noindex
X-PUBLISHED-TTL:PT1H
BEGIN:VTIMEZONE
TZID:America/New_York
BEGIN:DAYLIGHT
TZOFFSETFROM:-0500
TZOFFSETTO:-0400
TZNAME:EDT
DTSTART:20240310T070000
END:DAYLIGHT
BEGIN:STANDARD
TZOFFSETFROM:-0400
TZOFFSETTO:-0500
TZNAME:EST
DTSTART:20241103T060000
END:STANDARD
BEGIN:DAYLIGHT
TZOFFSETFROM:-0500
TZOFFSETTO:-0400
TZNAME:EDT
DTSTART:20250309T070000
END:DAYLIGHT
BEGIN:STANDARD
TZOFFSETFROM:-0400
TZOFFSETTO:-0500
TZNAME:EST
DTSTART:20251102T060000
END:STANDARD
BEGIN:DAYLIGHT
TZOFFSETFROM:-0500
TZOFFSETTO:-0400
TZNAME:EDT
DTSTART:20260308T070000
END:DAYLIGHT
BEGIN:STANDARD
TZOFFSETFROM:-0400
TZOFFSETTO:-0500
TZNAME:EST
DTSTART:20261101T060000
END:STANDARD
END:VTIMEZONE
BEGIN:VEVENT
DTSTART;TZID=America/New_York:20250120T110000
DTEND;TZID=America/New_York:20250120T170000
DTSTAMP:20260424T022625
CREATED:20241118T122402Z
LAST-MODIFIED:20241209T002955Z
UID:25062-1737370800-1737392400@unitedebonysociety.org
SUMMARY:Martin Luther King Parade 2025
DESCRIPTION:Annual Martin Luther King Day Parade\nMonday\, January 20\, 2025\nTHEME:  Don’t give up on the dream! \nCeremony:  11 PM\nGwinnett Justice and Administration Center (GJAC)\n75 Langley Dr\nLawrenceville\, GA 30046 \nParade:  12 PM  – LINE UP 11 AM\nStarts at GJAC and goes to Central Gwinnett High School \nCelebration:  3 PM – 5 PM\nCentral Gwinnett High School\n564 W Crogan St\, Lawrenceville\, GA 30046
URL:https://unitedebonysociety.org/event/martin-luther-king-parade-2025/
LOCATION:Gwinnett Justice and Administration Center\, 75 Langley Dr\, Lawrenceville\, GA\, 30046\, United States
CATEGORIES:Event
ATTACH;FMTTYPE=image/png:https://unitedebonysociety.org/wp-content/uploads/2024/12/photo-output.png
END:VEVENT
END:VCALENDAR