BEGIN:VCALENDAR
VERSION:2.0
PRODID:-//The United Ebony Society - ECPv6.15.20//NONSGML v1.0//EN
CALSCALE:GREGORIAN
METHOD:PUBLISH
X-WR-CALNAME:The United Ebony Society
X-ORIGINAL-URL:https://unitedebonysociety.org
X-WR-CALDESC:Events for The United Ebony Society
REFRESH-INTERVAL;VALUE=DURATION:PT1H
X-Robots-Tag:noindex
X-PUBLISHED-TTL:PT1H
BEGIN:VTIMEZONE
TZID:America/New_York
BEGIN:DAYLIGHT
TZOFFSETFROM:-0500
TZOFFSETTO:-0400
TZNAME:EDT
DTSTART:20210314T070000
END:DAYLIGHT
BEGIN:STANDARD
TZOFFSETFROM:-0400
TZOFFSETTO:-0500
TZNAME:EST
DTSTART:20211107T060000
END:STANDARD
BEGIN:DAYLIGHT
TZOFFSETFROM:-0500
TZOFFSETTO:-0400
TZNAME:EDT
DTSTART:20220313T070000
END:DAYLIGHT
BEGIN:STANDARD
TZOFFSETFROM:-0400
TZOFFSETTO:-0500
TZNAME:EST
DTSTART:20221106T060000
END:STANDARD
BEGIN:DAYLIGHT
TZOFFSETFROM:-0500
TZOFFSETTO:-0400
TZNAME:EDT
DTSTART:20230312T070000
END:DAYLIGHT
BEGIN:STANDARD
TZOFFSETFROM:-0400
TZOFFSETTO:-0500
TZNAME:EST
DTSTART:20231105T060000
END:STANDARD
END:VTIMEZONE
BEGIN:VEVENT
DTSTART;TZID=America/New_York:20221023T120000
DTEND;TZID=America/New_York:20221023T190000
DTSTAMP:20260425T235905
CREATED:20221016T223633Z
LAST-MODIFIED:20221016T230718Z
UID:4435-1666526400-1666551600@unitedebonysociety.org
SUMMARY:Souls to the Polls
DESCRIPTION:Join the Ebony Society and the NAACP for Souls to the Polls\nEarly voting has started and we want everybody to vote.\nCome join us for food\, fun and Music \nGwinnett Voter Registration Building\n455 Grayson Hwy\nLawrenceville\, GA 30046
URL:https://unitedebonysociety.org/event/souls-to-the-polls/
LOCATION:Gwinnett Voter Registration Building\, 455 Grayson Highway\, Lawrenceville\, GA\, 30046\, United States
END:VEVENT
END:VCALENDAR