BEGIN:VCALENDAR
VERSION:2.0
PRODID:-//The United Ebony Society - ECPv6.15.20//NONSGML v1.0//EN
CALSCALE:GREGORIAN
METHOD:PUBLISH
X-WR-CALNAME:The United Ebony Society
X-ORIGINAL-URL:https://unitedebonysociety.org
X-WR-CALDESC:Events for The United Ebony Society
REFRESH-INTERVAL;VALUE=DURATION:PT1H
X-Robots-Tag:noindex
X-PUBLISHED-TTL:PT1H
BEGIN:VTIMEZONE
TZID:America/New_York
BEGIN:DAYLIGHT
TZOFFSETFROM:-0500
TZOFFSETTO:-0400
TZNAME:EDT
DTSTART:20250309T070000
END:DAYLIGHT
BEGIN:STANDARD
TZOFFSETFROM:-0400
TZOFFSETTO:-0500
TZNAME:EST
DTSTART:20251102T060000
END:STANDARD
BEGIN:DAYLIGHT
TZOFFSETFROM:-0500
TZOFFSETTO:-0400
TZNAME:EDT
DTSTART:20260308T070000
END:DAYLIGHT
BEGIN:STANDARD
TZOFFSETFROM:-0400
TZOFFSETTO:-0500
TZNAME:EST
DTSTART:20261101T060000
END:STANDARD
BEGIN:DAYLIGHT
TZOFFSETFROM:-0500
TZOFFSETTO:-0400
TZNAME:EDT
DTSTART:20270314T070000
END:DAYLIGHT
BEGIN:STANDARD
TZOFFSETFROM:-0400
TZOFFSETTO:-0500
TZNAME:EST
DTSTART:20271107T060000
END:STANDARD
END:VTIMEZONE
BEGIN:VEVENT
DTSTART;TZID=America/New_York:20260221T100000
DTEND;TZID=America/New_York:20260221T140000
DTSTAMP:20260423T160601
CREATED:20260112T233633Z
LAST-MODIFIED:20260127T214225Z
UID:25685-1771668000-1771682400@unitedebonysociety.org
SUMMARY:Annual Black History Month Bus Tour
DESCRIPTION:Explore Black History\nJoin us for our Annual Black History Month Bus Tour of Historic Gwinnett County. \nSince 2009\, The United Ebony Society’s annual Black History Bus Tour has been a highly anticipated tradition in partnership with Gwinnett County.  We look forward to another great event! \n$11 for residents/$21 for non residents \nFor more information contact the United Ebony Society \nSponsor this event \n  \n 
URL:https://unitedebonysociety.org/event/annual-black-history-month-bus-tour/
LOCATION:Lawrenceville Female Seminary\, 455 South Perry Street\, Lawrenceville\, GA\, 30046
CATEGORIES:Event
ATTACH;FMTTYPE=image/png:https://unitedebonysociety.org/wp-content/uploads/2026/01/black-history-month.png
END:VEVENT
END:VCALENDAR