BEGIN:VCALENDAR
VERSION:2.0
PRODID:-//The United Ebony Society - ECPv6.15.20//NONSGML v1.0//EN
CALSCALE:GREGORIAN
METHOD:PUBLISH
X-WR-CALNAME:The United Ebony Society
X-ORIGINAL-URL:https://unitedebonysociety.org
X-WR-CALDESC:Events for The United Ebony Society
REFRESH-INTERVAL;VALUE=DURATION:PT1H
X-Robots-Tag:noindex
X-PUBLISHED-TTL:PT1H
BEGIN:VTIMEZONE
TZID:America/New_York
BEGIN:DAYLIGHT
TZOFFSETFROM:-0500
TZOFFSETTO:-0400
TZNAME:EDT
DTSTART:20250309T070000
END:DAYLIGHT
BEGIN:STANDARD
TZOFFSETFROM:-0400
TZOFFSETTO:-0500
TZNAME:EST
DTSTART:20251102T060000
END:STANDARD
BEGIN:DAYLIGHT
TZOFFSETFROM:-0500
TZOFFSETTO:-0400
TZNAME:EDT
DTSTART:20260308T070000
END:DAYLIGHT
BEGIN:STANDARD
TZOFFSETFROM:-0400
TZOFFSETTO:-0500
TZNAME:EST
DTSTART:20261101T060000
END:STANDARD
BEGIN:DAYLIGHT
TZOFFSETFROM:-0500
TZOFFSETTO:-0400
TZNAME:EDT
DTSTART:20270314T070000
END:DAYLIGHT
BEGIN:STANDARD
TZOFFSETFROM:-0400
TZOFFSETTO:-0500
TZNAME:EST
DTSTART:20271107T060000
END:STANDARD
END:VTIMEZONE
BEGIN:VEVENT
DTSTART;TZID=America/New_York:20260620T170000
DTEND;TZID=America/New_York:20260620T220000
DTSTAMP:20260423T141655
CREATED:20260226T163609Z
LAST-MODIFIED:20260305T150228Z
UID:25838-1781974800-1781992800@unitedebonysociety.org
SUMMARY:Juneteenth 2026
DESCRIPTION:Come Join the United Ebony Society for Food and Fun to celebrate Juneteenth. \nWant to become a vendor or sponsor? \nClick here to become a sponsor \nClick here to become a vendor
URL:https://unitedebonysociety.org/event/juneteenth-2026/
LOCATION:Gwinnett County Fairgrounds\, 2405 Sugarloaf Parkway\, Lawrenceville\, GA\, 30046\, United States
CATEGORIES:Event
ATTACH;FMTTYPE=image/png:https://unitedebonysociety.org/wp-content/uploads/2026/02/juneteenth-2026-flyer.png
END:VEVENT
END:VCALENDAR