BEGIN:VCALENDAR
VERSION:2.0
PRODID:-//The United Ebony Society - ECPv6.15.20//NONSGML v1.0//EN
CALSCALE:GREGORIAN
METHOD:PUBLISH
X-ORIGINAL-URL:https://unitedebonysociety.org
X-WR-CALDESC:Events for The United Ebony Society
REFRESH-INTERVAL;VALUE=DURATION:PT1H
X-Robots-Tag:noindex
X-PUBLISHED-TTL:PT1H
BEGIN:VTIMEZONE
TZID:America/New_York
BEGIN:DAYLIGHT
TZOFFSETFROM:-0500
TZOFFSETTO:-0400
TZNAME:EDT
DTSTART:20250309T070000
END:DAYLIGHT
BEGIN:STANDARD
TZOFFSETFROM:-0400
TZOFFSETTO:-0500
TZNAME:EST
DTSTART:20251102T060000
END:STANDARD
BEGIN:DAYLIGHT
TZOFFSETFROM:-0500
TZOFFSETTO:-0400
TZNAME:EDT
DTSTART:20260308T070000
END:DAYLIGHT
BEGIN:STANDARD
TZOFFSETFROM:-0400
TZOFFSETTO:-0500
TZNAME:EST
DTSTART:20261101T060000
END:STANDARD
BEGIN:DAYLIGHT
TZOFFSETFROM:-0500
TZOFFSETTO:-0400
TZNAME:EDT
DTSTART:20270314T070000
END:DAYLIGHT
BEGIN:STANDARD
TZOFFSETFROM:-0400
TZOFFSETTO:-0500
TZNAME:EST
DTSTART:20271107T060000
END:STANDARD
END:VTIMEZONE
BEGIN:VEVENT
DTSTART;TZID=America/New_York:20260119T110000
DTEND;TZID=America/New_York:20260119T160000
DTSTAMP:20260423T162439
CREATED:20251003T140727Z
LAST-MODIFIED:20260102T220243Z
UID:25547-1768820400-1768838400@unitedebonysociety.org
SUMMARY:Martin Luther King Parade 2026
DESCRIPTION:Join us for the Annual Martin Luther King Parade\nJanuary 19\, 2026\nCeremony:  11 AM – Gwinnett Justice & Administration Center\nParade: 12 PM – GJAC to Central Gwinnett High School\nCelebration: 3PM  – Central Gwinnett High School.  There will be food\, vendors and entertainment \nSign up to be a vendor \nSign up to walk in the parade \nVolunteer
URL:https://unitedebonysociety.org/event/martin-luther-king-parade-2026/
LOCATION:Gwinnett Justice and Administration Center\, 75 Langley Dr\, Lawrenceville\, GA\, 30046\, United States
CATEGORIES:Event
ATTACH;FMTTYPE=image/jpeg:https://unitedebonysociety.org/wp-content/uploads/2025/12/thumbnail_photo-output.jpg
END:VEVENT
END:VCALENDAR